BEGIN:VCALENDAR
PRODID:-//eluceo/ical//2.0/EN
VERSION:2.0
CALSCALE:GREGORIAN
BEGIN:VEVENT
UID:event-236
DTSTAMP:20260423T173541Z
SUMMARY:Borrel: New Kids VS. Gooische Vrouwen
DESCRIPTION:*English below 💅🏼🥤Kakker vs Tokkie🥤💅🏼-  kies
  je kant!!! Woensdag 13 mei brengen we Gooische glamour en New Kids chaos 
 samen bij de QBDBD borrel 💙 Ben jij meer van de parels\, prosecco en pe
 rfecte blow-outs? 💄🍾 Of ga jij voor trainingspakken\, energy drinks 
 en fatbikes? 🔥🍺 Verwacht foute hits\, heerlijke drankjes en iconisch
 e outfits! Dus trek je meest overdreven Gooische look uit de kast óf ga a
 ll-in New Kids stijl! Locatie: café Kale  Tijd: vanaf 20:30 Dresscode: t
 okkie of kakker  Wij kunnen niet wachten om te zien welke kant wint! Meld
  je snel aan via de site💖 - 💅🏼🥤Snob vs. Chav🥤💅🏼 – p
 ick your side!!! On Wednesday\, May 13\, we’re bringing Gooische glamour
  and New Kids chaos together at the QBDBD drinks 💙 Are you all about pe
 arls\, prosecco\, and perfect blowouts? 💄🍾 Or do you prefer tracksui
 ts\, energy drinks\, and fat bikes? 🔥🍺 Expect guilty-pleasure hits\,
  delicious drinks\, and iconic outfits! So pull out your most over-the-top
  “posh” look\, or go all-in New Kids style! Location: Café Kale Time:
  from 8:30 PM Dress code: chav or snob We can’t wait to see which side w
 ins! Sign up quickly via the website 💖
DTSTART:20260513T183000Z
DTEND:20260514T000000Z
END:VEVENT
BEGIN:VTIMEZONE
TZID:UTC
BEGIN:STANDARD
DTSTART:20260513T183000
TZNAME:UTC
TZOFFSETTO:+0000
TZOFFSETFROM:+0000
END:STANDARD
END:VTIMEZONE
END:VCALENDAR
